BEGIN:VCALENDAR
VERSION:2.0
PRODID:-//Navigazione Stefanato - ECPv4.6.13//NONSGML v1.0//EN
CALSCALE:GREGORIAN
METHOD:PUBLISH
X-WR-CALNAME:Navigazione Stefanato
X-ORIGINAL-URL:https://www.navigazionestefanato.it
X-WR-CALDESC:Events for Navigazione Stefanato
BEGIN:VEVENT
DTSTART;VALUE=DATE:20220722
DTEND;VALUE=DATE:20220723
DTSTAMP:20260421T152935
CREATED:20220621T092244Z
LAST-MODIFIED:20220621T092244Z
UID:11730-1658448000-1658534399@www.navigazionestefanato.it
SUMMARY:Apericena in laguna con passeggiata in piazza San Marco
DESCRIPTION:22 Luglio \nProgramma:\nPartenza ore 18.00 da Portegrandi (VE) \nParcheggio non a pagamento in via Trieste 94 Portegrandi (ve). \nUna volta partiti effettueremo degli accenni storici\, con una navigazione di un breve tratto del fiume sile per poi passare attraverso la conca di navigazione dove una volta passati navigheremo il vecchio alveo del fiume\, immersi nella flora e fauna\, vedremo bilance da pesca\, valli e barene. \nRicco e abbondante aperitivo di benvenuto con cicchetti misti ecc. Vino\, acqua e spritz. \nNavigazione con panoramica delle isole della laguna (Torcello-Burano-Murano-Arsenale di Venezia-Lido di Venezia e del “salotto più bello al Mondo”….il Bacino di San Marco dove sarà effettuato lo sbarco per una passeggiata libera in piazza San Marco. \nMenù di bordo:\nRisotto di pesce\nFrittura di calamari e gamberi con contorno.\nDolce.\nVino e acqua durante la cena a volontà.\nCaffè con grappa e amaro. \nIntrattenimento musicale nel dopo cena. \nRientro a Portegrandi (VE) verso le ore 23.30/00.00 circa. \nTariffa in abbinata ad altre comitive:\n€70\,00 per adulto\n€35\,00 per ragazzo dai 6 ai 14 anni.\n€10\,00 dai 3 ai 5 anni. \nPer ulteriori informazioni e prenotazioni:\ninfo@navigazionestefanato.it oppure contattare i seguenti numeri:\n0422788663\n3403484172 Nicolas\n3356296606 Michele\n3453119321 Zigret \nNOTA BENE:\nI tour vengono effettuati con un minimo di persone.\nLa prenotazione è consigliata per tempo in quanto i posti sono sempre limitati. \nDirezione tecnica\nD. tour \n
URL:https://www.navigazionestefanato.it/eventi/apericena-in-laguna-con-passeggiata-in-piazza-san-marco/
LOCATION:Via Trieste\, 94\, Portegrandi\, Venezia\, 30020\, Italy
END:VEVENT
END:VCALENDAR