BEGIN:VCALENDAR
VERSION:2.0
PRODID:-//Navigazione Stefanato - ECPv4.6.13//NONSGML v1.0//EN
CALSCALE:GREGORIAN
METHOD:PUBLISH
X-WR-CALNAME:Navigazione Stefanato
X-ORIGINAL-URL:https://www.navigazionestefanato.it
X-WR-CALDESC:Events for Navigazione Stefanato
BEGIN:VEVENT
DTSTART;VALUE=DATE:20221015
DTEND;VALUE=DATE:20221016
DTSTAMP:20260421T123413
CREATED:20220919T145735Z
LAST-MODIFIED:20220919T145735Z
UID:12325-1665792000-1665878399@www.navigazionestefanato.it
SUMMARY:Burano-Murano-Venezia
DESCRIPTION:Partenza ore 09.00 da Portegrandi (VE). \nParcheggio non a pagamento in via Trieste 94 Portegrandi (VE). \nUna volta partiti effettueremo la spiegazione a bordo in italiano\, con una navigazione di un breve tratto del fiume Sile\, per poi passare attraverso la conca di navigazione dove una volta passati\, navigheremo il vecchio alveo del fiume.\nImmersi nella flora e fauna\, vedremo bilance da pesca\, valli e barene. \nSosta nelle isole di:\n-BURANO (tempo libero). \n-MURANO (visita guidata gratuita ad una fornace vetraria e tempo libero). \n-VENEZIA (tempo libero) \nPossibilità di pranzare al sacco nella motonave oppure a bordo.\nMENÙ DI BORDO:\nRicco e abbondante merendino mattutino con cicchetti misti\, vino e acqua.\nA pranzo:\nRisotto di pesce\nFiletto di branzino al forno con contorno\nDolce della barca\nVino e acqua durante i pasti a volontà\nCaffè con grappa e amaro\nPer chi non mangia pesce possibilità di avere un menù di carne su richiesta. \nRientro a Portegrandi (ve) verso le ore 18.30 circa. \nTariffa in abbinata:\n€30\,00 per adulto\, che comprende la navigazione + la spiegazione a bordo.\n€20\,00 per ragazzo dai 6 ai 14 anni.\n€10\,00 per i bambini dai 3 ai 5 anni.\n+\nIngressi extra \nVIAGGIO + PRANZO A BORDO:\n€68\,00 per adulto\, che comprende la navigazione + la spiegazione a bordo + il pranzo come descritto nel programma:\n€35\,00 per i ragazzi dai 6 ai 14 anni.\n€10\,00 per i bambini dai 3 ai 5 anni.\n+\nIngressi extra \nPer ulteriori informazioni e prenotazioni:\ninfo@navigazionestefanato.it oppure contattare i seguenti numeri:\n0422788663\n3403484172 Nicolas\n3356296606 Michele \nNOTA BENE:\nI tour vengono effettuati con un minimo di persone.\nLa prenotazione è consigliata per tempo in quanto i posti sono sempre limitati.\nIn caso di pioggia la navigazione\, viene effettuata senza problemi\, in quanto il laguna il meteo è variabile (in caso di forze maggiori sarete contattati). \nDirezione tecnica\nD. tour snc \n
URL:https://www.navigazionestefanato.it/eventi/burano-murano-venezia-3/
LOCATION:Via Trieste\, 94\, Portegrandi\, Venezia\, 30020\, Italy
END:VEVENT
END:VCALENDAR