BEGIN:VCALENDAR
VERSION:2.0
PRODID:-//Navigazione Stefanato - ECPv4.6.13//NONSGML v1.0//EN
CALSCALE:GREGORIAN
METHOD:PUBLISH
X-WR-CALNAME:Navigazione Stefanato
X-ORIGINAL-URL:https://www.navigazionestefanato.it
X-WR-CALDESC:Events for Navigazione Stefanato
BEGIN:VEVENT
DTSTART;VALUE=DATE:20200413
DTEND;VALUE=DATE:20200414
DTSTAMP:20260422T092027
CREATED:20200211T144049Z
LAST-MODIFIED:20200211T144049Z
UID:8495-1586736000-1586822399@www.navigazionestefanato.it
SUMMARY:CHIOGGIA-PELLESTRINA-SAN FRANCESCO DEL DESERTO
DESCRIPTION:Partenza ore 08.30 da Portegrandi (ve). \nParcheggio non a pagamento. \nMotonave riscaldata. \nUna volta partiti effettueremo la spiegazione a bordo\, con una navigazione di un breve tratto del fiume Sile\, per poi passare attraverso la conca di navigazione dove una volta passati\, navigheremo il vecchio alveo del fiume. \nImmersi nella flora e fauna\, vedremo bilance da pesca\, valli e barene. \nMerendino mattutino con crostini (salumi di fattoria\, formaggio\, acciughe\, sarde fritte ecc.). \nSosta nelle isole di: \n-Convento di San Francesco del Deserto (spiegazione guidata oppure per chi ha piacere può seguire la Santa Messa). \n-Pellestrina (tempo libero). \n-Chioggia/Sottomarina (tempo libero). \nPranzo a bordo:  \nRisotto di pesce \nFrittura di calamari e gamberi con contorno. \nDolce. \nVino e acqua durante i pasti a volontà. \nCaffè con grappa e amaro. \nPer chi non mangia pesce possibilità di avere un menù di carne su richiesta.  \nNel rientro sarà servita una pasta al sugo.  \nRientro a Portegrandi verso le 21.00 circa. \nPer maggiori informazioni\, tariffe e prenotazioni contattateci ai seguenti numeri: \n(Per varie collaborazioni con agenzie\, associazioni\, hotel\, non possiamo pubblicare le tariffe\, grazie per la Vostra attenzione!!!). \n0422788663  \n3403484172 Nicolas \n3356296606 Michele \n
URL:https://www.navigazionestefanato.it/eventi/chioggia-pellestrina-san-francesco-del-deserto/
LOCATION:Via Trieste\, 94\, Portegrandi\, Venezia\, 30020\, Italy
END:VEVENT
END:VCALENDAR