BEGIN:VCALENDAR
VERSION:2.0
PRODID:-//Navigazione Stefanato - ECPv4.6.13//NONSGML v1.0//EN
CALSCALE:GREGORIAN
METHOD:PUBLISH
X-WR-CALNAME:Navigazione Stefanato
X-ORIGINAL-URL:https://www.navigazionestefanato.it
X-WR-CALDESC:Events for Navigazione Stefanato
BEGIN:VEVENT
DTSTART;VALUE=DATE:20200425
DTEND;VALUE=DATE:20200426
DTSTAMP:20260421T084737
CREATED:20200117T140102Z
LAST-MODIFIED:20200117T140102Z
UID:8410-1587772800-1587859199@www.navigazionestefanato.it
SUMMARY:CONVENTO DI SAN FRANCESCO DEL DESERTO-BURANO-MURANO
DESCRIPTION:Partenza ore 08.30 da Portegrandi (ve). \nParcheggio non a pagamento. \nMotonave riscaldata. \nUna volta partiti effettueremo la spiegazione a bordo\, con una navigazione di un breve tratto del fiume Sile\, per poi passare attraverso la conca di navigazione dove una volta passati navigheremo il vecchio alveo del fiume. \nImmersi nella flora e fauna\, vedremo bilance da pesca\, valli e barene. \nSosta nelle isole di: \n-Convento di San Francesco del Deserto (spiegazione guidata gratuita). \n-Murano (visita ad una fornace vetraria con spiegazione gratuita e tempo libero). \n-Burano (pausa pranzo e tempo libero). \nPossibilità di pranzo al sacco nella motonave oppure in un ristorante convenzionato in centro a Burano. \nL’ordine e gli orari delle soste verranno definiti al momento della partenza in base alla disponibilità della fornace vetraria. \nRientro ore 18.30 circa. \nPer ulteriori informazioni\, tariffe e prenotazioni contattare i seguenti numeri: \n(Per varie collaborazioni con agenzie\, associazioni\, Hotel  ecc. non possiamo inserire le tariffe\, grazie per la Vostra attenzione!!!). \n0422788663 \n3403484172 Nicolas  \n3356296606 Michele  \n3355245599 Glauco \n
URL:https://www.navigazionestefanato.it/eventi/convento-di-san-francesco-del-deserto-burano-murano/
LOCATION:Via Trieste\, 94\, Portegrandi\, Venezia\, 30020\, Italy
END:VEVENT
END:VCALENDAR