BEGIN:VCALENDAR
VERSION:2.0
PRODID:-//Navigazione Stefanato - ECPv4.6.13//NONSGML v1.0//EN
CALSCALE:GREGORIAN
METHOD:PUBLISH
X-WR-CALNAME:Navigazione Stefanato
X-ORIGINAL-URL:https://www.navigazionestefanato.it
X-WR-CALDESC:Events for Navigazione Stefanato
BEGIN:VEVENT
DTSTART;VALUE=DATE:20251012
DTEND;VALUE=DATE:20251013
DTSTAMP:20260421T152020
CREATED:20250730T141930Z
LAST-MODIFIED:20251005T144116Z
UID:17621-1760227200-1760313599@www.navigazionestefanato.it
SUMMARY:Giudecca e Murano con pranzo a bordo ; (prenotazioni chiuse\, tour sold out)
DESCRIPTION:Durata tour: circa 8 ore \nParcheggio e ZTL: gratuiti a Portegrandi e situati a circa 5 minuti a piedi dal punto di imbarco \nDescrizione tour:  \nSalpa da Portegrandi per un’indimenticabile escursione in battello tra arte\, cinema e storia millenaria! Navigheremo lungo la zona archeologica di Altino\, passando per Torcello e Mazzorbo\, immersi nella magia della laguna. Costeggeremo l’Arsenale e il Lido\, icona del celebre Festival del Cinema e scenario del romanzo “Morte a Venezia” di Thomas Mann. L’emozione cresce nel Bacino di San Marco\, davanti a Palazzo Ducale\, Ponte dei Sospiri\, la Basilica e l’imponente San Giorgio Maggiore\, capolavoro di Palladio. Sosteremo alla Giudecca\, tra i luoghi del film “Anonimo veneziano”\, la Chiesa del Redentore e i vecchi mulini. Al rientro\, un delizioso pranzo panoramico a bordo in Bacino San Marco  ci accompagnerà verso Murano\, dove visiteremo una fornace per scoprire i segreti dell’arte del vetro. Un viaggio tra emozioni\, bellezza e grandi storie. Escursione garantita anche in caso di maltempo: consigliamo di portare sempre un ombrello ed un K-way. \nOrari tour (sono indicativi e possono subire delle piccole variazioni): \n\nImbarco: Portegrandi\, dalle ore 08.00\nPartenza: Portegrandi\, ore 08.30\nGiudecca: 10.30-12.15\nMurano: 14.00-15.30\nArrivo: Portegrandi\, ore 18.00 circa\n\nMenù pranzo a bordo (variante pesce): \n\ngrande buffet di benvenuto con cicchetti misti veneziani\, acqua e vino bianco frizzante\nrisotto di frutti di mare dell’Adriatico\nfiletto di branzino al forno con contorno di patate\ndessert\ncaffè\nvino bianco frizzante ed acqua naturale o frizzante a volontà durante tutta la cena\ngrappa\, amaro e limoncello finale\n\nMenù pranzo a bordo (variante carne\, solo su richiesta): \n\ngrande buffet di benvenuto con cicchetti misti veneziani\, acqua e vino bianco frizzante\npaccheri all’amatriciana o lasagne al ragù (conforme alla disponibilità della cucina)\ncarne con contorno\ndessert\ncaffè\nvino bianco frizzante ed acqua naturale o frizzante a volontà durante tutta la cena\ngrappa\n\nTariffe escursione (include la navigazione con spiegazione guidata a bordo in italiano\, la sosta alla Giudecca con visita guidata e la sosta con visita ad una fornace a Murano): \n\n€ 78 adulti\n€ 40 ragazzi (dai 6 ai 14 anni)\n€ 15 bambini (dai 3 ai 5 anni)\n\nPagamento escursione:  \n\na bordo in contanti\nmediante bonifico da app bancaria sul telefono\nbonifico vista fattura post escursione\n\nPer prenotare è facile\, basta compilare i seguenti campi e inviarli via mail:  \n\nData tour: domenica 12 ottobre \nNome tour: Giudecca e Murano\nNome Referente prenotazione:\nNumero di telefono:\nTotale partecipanti:\nTot. menù pesce:\nTot. menù carne:\nAltro:\n\nCome annullare l’escursione? \n\nVi preghiamo di inviarci una mail almeno 48 ore prima dell’escursione\n\nCosa è importante sapere? \n\nIl giorno prima dell’escursione invieremo un sms al numero di cellulare fornito con tutti i dettagli relativi all’imbarco\nMotonave riscaldata\, bar\, servizio toilette.\nMotonave dotata di tutte le strumentazioni di sicurezza e provvista di regolare licenza per il trasporto passeggeri\nLa Direzione può modificare o interrompere l’escursione sia per motivi metereologici che per motivi di sicurezza\n\n
URL:https://www.navigazionestefanato.it/eventi/escursione-alle-isole-di-torcello-burano-murano-con-pranzo-al-sacco-oppure-in-un-ristorante-tipico-a-burano/
LOCATION:Via Marzi\, Portegrandi\, Venezia\, 30020\, Italy
ATTACH;FMTTYPE=image/jpeg:https://www.navigazionestefanato.it/wp-content/uploads/2025/07/REDENTORE.jpeg
END:VEVENT
END:VCALENDAR