BEGIN:VCALENDAR
VERSION:2.0
PRODID:-//Navigazione Stefanato - ECPv4.6.13//NONSGML v1.0//EN
CALSCALE:GREGORIAN
METHOD:PUBLISH
X-WR-CALNAME:Navigazione Stefanato
X-ORIGINAL-URL:https://www.navigazionestefanato.it
X-WR-CALDESC:Events for Navigazione Stefanato
BEGIN:VEVENT
DTSTART;VALUE=DATE:20250815
DTEND;VALUE=DATE:20250816
DTSTAMP:20260421T084409
CREATED:20250725T175753Z
LAST-MODIFIED:20250730T094216Z
UID:17479-1755216000-1755302399@www.navigazionestefanato.it
SUMMARY:Ferragosto a Chioggia
DESCRIPTION:Durata tour: circa 9 ore \nParcheggio e ZTL: gratuiti a Portegrandi e situati a circa 5 minuti a piedi dal punto di imbarco \nDescrizione tour:  \nVivi un Ferragosto indimenticabile in battello da Portegrandi\, tra storia\, mare e meraviglie lagunari. Navigheremo accanto all’antica Altino\, culla della civiltà veneta\, sfiorando Torcello\, Burano e Murano fino all’isola mistica di San Francesco del Deserto. Costeggeremo il Lido fino a Malamocco\, prima sede del Doge\, dove guide esperte ci condurranno tra storie di Corto Maltese\, canali segreti e l’imponente muraglia dei “Murazzi”. A bordo\, un pranzo tradizionale accompagnerà la lenta discesa verso sud\, tra riflessi d’acqua e poesia\, costeggiando Pellestrina e il suo fascino senza tempo. A Chioggia\, sosta libera tra calli romantiche\, antichi mercati\, pescatori e leggende marinare. Un viaggio tra passato e presente\, nel cuore più autentico della laguna veneta. Escursione garantita anche in caso di maltempo: consigliamo di portare sempre un ombrello ed un K-way. \nOrari tour (sono indicativi e possono subire delle piccole variazioni): \n\nImbarco: Portegrandi\, dalle ore 08.00\nPartenza: Portegrandi\, ore 08.30\nMalamocco: 11.00-12.20\nChioggia:  14.00-16.00\nArrivo: Portegrandi\, ore 19.30 circa\n\nTariffe escursione (include la navigazione\, la spiegazione guidata a bordo in italiano e l’intrattenimento musicale\, la sosta con visita guida a Malamocco\, il pranzo a bordo\, la sosta a Chioggia\, ): \n\n€ 95 adulti\n€ 50 ragazzi (dai 6 ai 14 anni)\n€ 20 bambini (dai 3 ai 5 anni)\n\nPagamento escursione:  \n\na bordo in contanti\nmediante bonifico da app bancaria sul telefono\nbonifico vista fattura post escursione\n\nMenù pranzo a bordo (variante pesce): \n\ngrande buffet di benvenuto con cicchetti misti veneziani\, acqua e vino bianco frizzante\nrisotto di frutti di mare dell’Adriatico\nfiletto di branzino al forno con contorno\ndessert\ncaffè\nvino bianco frizzante ed acqua naturale o frizzante a volontà durante tutta la cena\ngrappa\, amaro e limoncello finale\npasta all’amatriciana al rientro\n\nMenù pranzo a bordo (variante carne\, solo su richiesta): \n\ngrande buffet di benvenuto con cicchetti misti veneziani\, acqua e vino bianco frizzante\npaccheri all’amatriciana o lasagne al ragù (conforme alla disponibilità della cucina)\ncarne con contorno\ndessert\ncaffè\nvino bianco frizzante ed acqua naturale o frizzante a volontà durante tutta la cena\ngrappa\, amaro e limoncello finale\npasta all’amatriciana al rientro\n\nPer prenotare è semplice: compilare i seguenti campi e inoltrarceli per mail  \n\nData tour: venerdì 15 agosto \nNome tour: Ferragosto a Chioggia \nNome Referente prenotazione:\nNumero di telefono:\nTotale partecipanti:\nTot. menù pesce:\nTot. menù carne:\nAltro:\n\nCome annullare l’escursione? \n\nVi preghiamo di inviarci una mail almeno 48 ore prima dell’escursione\n\nCosa è importante sapere? \n\nMotonave riscaldata\,  bar\, servizio toilette.\nIl giorno prima dell’escursione invieremo un sms al numero di cellulare fornito con tutti i dettagli relativi all’imbarco\nNon c’è dress code\nMotonave dotata di tutte le strumentazioni di sicurezza e provvista di regolare licenza per il trasporto passeggeri\nLa Direzione può modificare o interrompere l’escursione sia per motivi metereologici che per motivi di sicurezza\n\n
URL:https://www.navigazionestefanato.it/eventi/ferragosto-a-chioggia/
LOCATION:Via Trieste\, 94\, Portegrandi\, Venezia\, 30020\, Italy
END:VEVENT
END:VCALENDAR