BEGIN:VCALENDAR
VERSION:2.0
PRODID:-//Navigazione Stefanato - ECPv4.6.13//NONSGML v1.0//EN
CALSCALE:GREGORIAN
METHOD:PUBLISH
X-WR-CALNAME:Navigazione Stefanato
X-ORIGINAL-URL:https://www.navigazionestefanato.it
X-WR-CALDESC:Events for Navigazione Stefanato
BEGIN:VEVENT
DTSTART;VALUE=DATE:20260308
DTEND;VALUE=DATE:20260309
DTSTAMP:20260421T084912
CREATED:20250916T180036Z
LAST-MODIFIED:20250916T180657Z
UID:18336-1772928000-1773014399@www.navigazionestefanato.it
SUMMARY:Festa della donna: tour in barca a Murano\, pranzo panoramico a Venezia\, Burano
DESCRIPTION:Durata tour: circa 7  ore \nParcheggio e ZTL: gratuiti a Portegrandi e situati a circa 5 minuti a piedi dal punto di imbarco \nDescrizione tour:  \nParti da Portegrandi per un’escursione in battello tra storia\, arte e meraviglia con pranzo a bordo o al sacco dedicato alla Festa della Donna! Navigheremo accanto alla zona archeologica di Altino\, lungo Torcello e Mazzorbo\, fino a Murano\, dove scopriremo dal vivo l’antica arte del vetro con una visita gratuita e guidata in fornace. A bordo ci attende un pranzo panoramico mentre navighiamo verso Venezia\, costeggiando l’Arsenale e il Lido\, fino al Bacino di San Marco: un colpo d’occhio unico su San Giorgio Maggiore\, Palazzo Ducale\, il Ponte dei Sospiri\, il Campanile e la Chiesa del Redentore. A bordo\, le guide ci racconteranno storie avvincenti\, segreti nascosti e curiosità della Serenissima\, illustrando e raccontando di grandi personalità femminili che hanno reso celebre Venezia nel mondo. Ultima tappa a Burano per scoprire l’arte delle antiche maestre merlettaie e dei segreti delle case colorate\, per una passeggiata tra sogno e realtà. Un viaggio indimenticabile nel cuore della laguna con intrattenimento musicale ed omaggio a tutte le Donne! Un viaggio tra meraviglia\, cultura e emozione pura! Escursione garantita anche in caso di maltempo: consigliamo di portare sempre un ombrello ed un K-way. \nOrari tour (sono indicativi e possono subire delle piccole variazioni): \n\nImbarco: Portegrandi\, dalle ore 09.00\nPartenza: Portegrandi\, ore 09.30\nMurano: 10.40-11.50\nBurano: 15.00-16.30\nArrivo: Portegrandi\, ore 18 circa\n\nMenù pranzo a bordo (variante pesce): \n\ngrande buffet di benvenuto con cicchetti misti veneziani\, acqua e vino bianco frizzante\nrisotto di frutti di mare dell’Adriatico\nfiletto di branzino al forno con contorno di patate\ndessert\ncaffè\nvino bianco frizzante ed acqua naturale o frizzante a volontà durante tutta la cena\ngrappa\, amaro e limoncello finale\n\nMenù pranzo a bordo (variante carne\, solo su richiesta): \n\ngrande buffet di benvenuto con cicchetti misti veneziani\, acqua e vino bianco frizzante\npaccheri all’amatriciana o lasagne al ragù (conforme alla disponibilità della cucina)\ncarne con contorno\ndessert\ncaffè\nvino bianco frizzante ed acqua naturale o frizzante a volontà durante tutta la cena\ngrappa\, amaro e limoncello finale\n\nTariffe escursione  con pranzo (include la navigazione guidata in italiano a bordo\, le soste nelle varie isole\, il pranzo  bordo): \n\n€ 75 adulti\n€ 40 ragazzi (dai 6 ai 14 anni)\n€ 15 bambini (dai 3 ai 5 anni)\n\nTariffe escursione senza pranzo (include la navigazione guidata in italiano a bordo\, le soste nelle varie isole): \n\n€ 33 adulti\n€ 23 ragazzi (dai 6 ai 14 anni)\n€ 10 bambini (dai 3 ai 5 anni)\n\nPagamento escursione:  \n\na bordo in contanti\nmediante bonifico da app bancaria sul telefono\nbonifico vista fattura post escursione\n\nPer prenotare compilare ed inviarci via mail i seguenti campi:  \n\nData tour: 8 marzo 2026\nNome tour: Murano\, pranzo panoramico a Venezia\, Burano\nNome Referente prenotazione:\nNumero di telefono:\nTotale partecipanti:\nTot. menù pesce:\nTot. menù carne:\nAltro:\n\nCome annullare l’escursione? \n\nVi preghiamo di inviarci una mail almeno 48 ore prima dell’escursione\n\nCosa è importante sapere? \n\nIl giorno prima dell’escursione invieremo un sms al numero di cellulare fornito con tutti i dettagli relativi all’imbarco\nMotonave riscaldata\, bar\, servizio toilette.\nMotonave dotata di tutte le strumentazioni di sicurezza e provvista di regolare licenza per il trasporto passeggeri\nLa Direzione può modificare o interrompere l’escursione sia per motivi metereologici che per motivi di sicurezza\n\n
URL:https://www.navigazionestefanato.it/eventi/festa-della-donna-tour-in-barca-a-murano-pranzo-panoramico-a-venezia-burano/
LOCATION:Via Marzi\, Portegrandi\, Venezia\, 30020\, Italy
ATTACH;FMTTYPE=image/jpeg:https://www.navigazionestefanato.it/wp-content/uploads/2025/09/Rosa-classica.jpg
END:VEVENT
END:VCALENDAR