BEGIN:VCALENDAR
VERSION:2.0
PRODID:-//Navigazione Stefanato - ECPv4.6.13//NONSGML v1.0//EN
CALSCALE:GREGORIAN
METHOD:PUBLISH
X-WR-CALNAME:Navigazione Stefanato
X-ORIGINAL-URL:https://www.navigazionestefanato.it
X-WR-CALDESC:Events for Navigazione Stefanato
BEGIN:VEVENT
DTSTART;VALUE=DATE:20200209
DTEND;VALUE=DATE:20200210
DTSTAMP:20260421T133437
CREATED:20191201T150319Z
LAST-MODIFIED:20200117T154823Z
UID:8303-1581206400-1581292799@www.navigazionestefanato.it
SUMMARY:FESTA VENEZIANA SULL’ACQUA
DESCRIPTION:Partenza ore 09.00 da Portegrandi (ve). \nParcheggio non a pagamento. \nMotonave riscaldata. \nUna volta partiti effettueremo la spiegazione a bordo\, con una navigazione di un breve tratto del fiume Sile\, per poi passare attraverso la conca di navigazione dove una volta passati\, navigheremo il vecchio alveo del fiume. \nImmersi nella flora e fauna\, vedremo bilance da pesca\, valli e barene. \n10.30/10.45 circa\, sosta a Venezia presso la Riva degli Schiavoni (tempo libero). \nReimbarco ore 16.30 circa. \nRientro verso le ore 18.30 circa. \nPer maggiori informazioni\, tariffe e prenotazioni\, contattateci. \nNOTA BENE:  \nNon possiamo pubblicare le tariffe per una collaborazione con agenzie/associazioni ecc. gentilmente contattateci o scriveteci. \nGrazie per la Vostra attenzione.  \n
URL:https://www.navigazionestefanato.it/eventi/festa-veneziana-sullacqua/
LOCATION:Via Trieste\, 94\, Portegrandi\, Venezia\, 30020\, Italy
END:VEVENT
END:VCALENDAR