BEGIN:VCALENDAR
VERSION:2.0
PRODID:-//Navigazione Stefanato - ECPv4.6.13//NONSGML v1.0//EN
CALSCALE:GREGORIAN
METHOD:PUBLISH
X-WR-CALNAME:Navigazione Stefanato
X-ORIGINAL-URL:https://www.navigazionestefanato.it
X-WR-CALDESC:Events for Navigazione Stefanato
BEGIN:VEVENT
DTSTART;VALUE=DATE:20260419
DTEND;VALUE=DATE:20260420
DTSTAMP:20260421T115639
CREATED:20250905T082328Z
LAST-MODIFIED:20260410T122424Z
UID:18019-1776556800-1776643199@www.navigazionestefanato.it
SUMMARY:Tour in barca all'isola degli Armeni (posti limitati) oppure San Giorgio Maggiore\, pranzo panoramico a Venezia e Murano
DESCRIPTION:Durata tour: circa 7  ore \nParcheggio e ZTL: gratuiti a Portegrandi e situati a circa 5 minuti a piedi dal punto di imbarco \nDescrizione tour:  \nVivi la magia di un’escursione spirituale con tappa in luoghi iconici della laguna\, ovvero all’isola degli Armeni e a Murano. Un’escursione indimenticabile tra storia\, bellezza e spiritualità! La nostra avventura inizia da Portegrandi\, a bordo di una motonave comoda\, riscaldata \, dotata di bar e toilette\,  lungo l’ultimo tratto del fiume Sile. Dopo aver superato la storica conca del 1724\, entreremo nella laguna nord\, circondati da barene selvagge e suggestivi canneti. Navigheremo tra le isole leggendarie di Torcello e Burano\, sino a raggiungere la famosa isola degli Armeni\, per un bellissimo tour guidato all’interno del suo celebre monastero (al raggiungimento posti consentiti per la visita del monastero verrà effettuata una sosta e visita a San Giorgio Maggiore). Pranzo a bordo al rientro in navigazione panoramica a Venezia. Sosta finale presso Murano e visita gratuita ad una tipica  fornace del vetro.  Escursione garantita anche con il maltempo: portate ombrello\, K-way. \nOrari tour (sono indicativi e possono subire delle piccole variazioni): \n\nImbarco: Portegrandi\, dalle ore 08.00\nPartenza: Portegrandi\, ore 08.30\nSan Lazzaro degli Armeni: 10.45-12.20\noppure San Giorgio Maggiore (per coloro che non riuscissero ad acquistare i posti agli Armeni): 11.00-12.30 (tour guidato a terra)\nPranzo panoramico: 12.30-14.00\nMurano: 14.10-16.00 (visita gratuita ad una fornace inclusa)\nArrivo: Portegrandi\, ore 18.30 circa\n\nMenù pranzo a bordo (variante pesce): \n\ngrande buffet di benvenuto con cicchetti misti veneziani\, acqua e vino bianco frizzante\nrisotto di frutti di mare dell’Adriatico\nfiletto di branzino al forno con contorno di patate\ndessert (crema tiramisù con biscotti di Burano)\ncaffè\nvino bianco frizzante ed acqua naturale o frizzante a volontà durante tutto il pranzo\ngrappa\n\nMenù pranzo a bordo (variante carne\, solo su richiesta): \n\ngrande buffet di benvenuto con cicchetti misti veneziani\, acqua e vino bianco frizzante\npaccheri all’amatriciana o lasagne al ragù (conforme alla disponibilità della cucina)\ncarne con contorno\ndessert (crema tiramisù con biscotti di Burano)\ncaffè\nvino bianco frizzante ed acqua naturale o frizzante a volontà durante tutta la cena\ngrappa\n\nTariffe escursione  con pranzo (include la navigazione guidata in italiano a bordo\, le soste nelle varie isole\, il pranzo bordo) con destinazione Armeni\, massimo 70 posti disponibili) \n\n€ 75 adulti + 8 € ingresso Armeni\n€ 40 ragazzi (dai 6 ai 14 anni) + ingresso Armeni € 5\n€ 15 bambini (dai 3 ai 5 anni) + ingresso Armeni € 5\n\nCosa si vedrà all’Isola degli Armeni? \n1) La corte interna del monastero\n2) Foto storiche\n3) Museo con mummia egizia e libri antichi\n4) Reperti romani e molto altro\n5) La sala acustica\n6) La chiesa\n7) Opere del Tiepolo\n8) Negozio con libri e prodotti a base di rose\n9) La vecchia stamperia dell’isola\n\n\n\nLa visita viene fatta dai padri o da guide esperte\, in italiano. Ricordo che la visita può essere fatta anche in lingua inglese\, armeno oppure russa su richiesta.\n\n\nIMPORTANTE: gli Armeni ammettono soltanto 90 persone per la visita del monastero (al raggiungimento dei 90 posti\, ai partecipanti che non fossero riusciti ad acquistare il biglietto per la visita del monastero armeno\, verrà garantita la sosta e la visita guidata a San Giorgio Maggiore)\n\n\nCosa si vedrà a San Giorgio?\n\nChiesa palladiana\nCoro ligneo dove si tenne un famoso conclave nel 1799\nDue grandi quadri di Tinotretto (saranno in restauro fino ad aprile 2026)\nPossibilità di entrare alla Fondazione Cini a pagamento (cappelle vaticane e giardino labirinto)\nPossibilità di salire sul Campanile a pagamento\n\nPagamento escursione:  \n\na bordo in contanti\nmediante bonifico da app bancaria sul telefono\nbonifico vista fattura post escursione\n\nPer prenotare compilare ed inviarci via mail i seguenti campi:  \n\nData tour: 19 aprile\nNome tour: Armeni/San Giorgio\, pranzo panoramico e Murano\nNome Referente prenotazione:\nNumero di telefono:\nTotale partecipanti:\nTot. menù pesce:\nTot. menù carne:\nAltro:\n\nImportante per i residenti in Veneto e non:  \n\nil 19 aprile è una giornata a Venezia con contributo di accesso\, ma solo per determinate categorie.\nSe sei residente in Veneto non paghi\, informati presso questo sito: https://www.venicevisitpass.com/magazine/contributo-daccesso-venezia-2026-prezzo-date-esenzioni/\nIn ogni caso è necessario registrarsi e esibire un QR code all’ingresso in città\n\nCome annullare l’escursione? \n\nVi preghiamo di inviarci una mail almeno 48 ore prima dell’escursione\n\nCosa è importante sapere? \n\nIl giorno prima dell’escursione invieremo un sms al numero di cellulare fornito con tutti i dettagli relativi all’imbarco\nAbbigliamento libero a bordo\nPossibilità di portare passeggini a bordo\nMotonave dotata di tutte le strumentazioni di sicurezza e provvista di regolare licenza per il trasporto passeggeri\nLa Direzione può modificare o interrompere l’escursione sia per motivi metereologici che per motivi di sicurezza\n\n
URL:https://www.navigazionestefanato.it/eventi/isola-degli-armeni-posti-limitati-oppure-san-giorgio-maggiore-pranzo-panoramico-a-venezia-e-murano/
LOCATION:Via Marzi\, Portegrandi\, Venezia\, 30020\, Italy
ATTACH;FMTTYPE=image/jpeg:https://www.navigazionestefanato.it/wp-content/uploads/2025/09/armeni7.jpg
END:VEVENT
END:VCALENDAR