BEGIN:VCALENDAR
VERSION:2.0
PRODID:-//Navigazione Stefanato - ECPv4.6.13//NONSGML v1.0//EN
CALSCALE:GREGORIAN
METHOD:PUBLISH
X-WR-CALNAME:Navigazione Stefanato
X-ORIGINAL-URL:https://www.navigazionestefanato.it
X-WR-CALDESC:Events for Navigazione Stefanato
BEGIN:VEVENT
DTSTART;VALUE=DATE:20191020
DTEND;VALUE=DATE:20191021
DTSTAMP:20260421T134602
CREATED:20190423T094805Z
LAST-MODIFIED:20190704T102007Z
UID:7501-1571529600-1571615999@www.navigazionestefanato.it
SUMMARY:LAZZARETTO NUOVO-SAN GIORGIO MAGGIORE-MURANO
DESCRIPTION:Partenza ore 08.30  da Portegrandi (ve). \nParcheggio non a pagamento. \nUna volta partiti effettueremo la spiegazione a bordo con una navigazione di un breve tratto del fiume Sile\, per poi passare attraverso la conca di navigazione\, dove una volta passati navigheremo il vecchio alveo del fiume. \nImmersi nella flora e fauna\, vedremo bilance da pesca\, valli e barene. \nSosta nelle isole di: \n-Lazzaretto Nuovo (spiegazione guidata a pagamento). \n-San Giorgio Maggiore (spiegazione guidata).  \n-Murano (visita ad una fornace vetraria con spiegazione gratuita e tempo libero). \nPossibilità di pranzo a bordo oppure al sacco.  \nL’ordine e gli orari delle soste verranno definiti al momento della partenza e in base alle visite guidate.  \nRientro ore 18.30 circa. \nPer ulteriori informazioni\, tariffe e prenotazioni contattateci. \n
URL:https://www.navigazionestefanato.it/eventi/lazzaretto-nuovo-san-giorgio-maggiore-murano/
LOCATION:Via Trieste\, 94\, Portegrandi\, Venezia\, 30020\, Italy
END:VEVENT
END:VCALENDAR