BEGIN:VCALENDAR
VERSION:2.0
PRODID:-//Navigazione Stefanato - ECPv4.6.13//NONSGML v1.0//EN
CALSCALE:GREGORIAN
METHOD:PUBLISH
X-WR-CALNAME:Navigazione Stefanato
X-ORIGINAL-URL:https://www.navigazionestefanato.it
X-WR-CALDESC:Events for Navigazione Stefanato
BEGIN:VEVENT
DTSTART;VALUE=DATE:20190922
DTEND;VALUE=DATE:20190923
DTSTAMP:20260421T090151
CREATED:20190220T145226Z
LAST-MODIFIED:20190220T145226Z
UID:7287-1569110400-1569196799@www.navigazionestefanato.it
SUMMARY:Lazzaretto Nuovo-Torcello-Burano
DESCRIPTION:Partenza ore 08.30 da Portegrandi (ve). \nParcheggio non a pagamento. \nUna volta partiti effettueremo la spiegazione a bordo\, con una navigazione di un breve tratto del fiume sile\, per poi passare attraverso la conca di navigazione dove una volta passati navigheremo il vecchio alveo del fiume. \nImmersi nella flora e fauna\, vedremo bilance da pesca\, valli e barene. \nSosta nelle isole di: \n-Lazzaretto Nuovo (spiegazione guidata a pagamento). \n-Torcello (tempo libero oppure a pagamento possibilità di salire sopra al campanile o visitare la Cattedrale della Santa Maria Assunta o il museo\, mentre l’ingresso nella Chiesa di Santa Fosca è’ libero). \n-Burano (pausa pranzo e tempo libero). \nPossibilità di pranzo al sacco nella motonave oppure in un ristorante convenzionato in centro a Burano.  \nL’ordine e gli orari delle soste verranno definiti al momento della partenza in base alla visita guidata del Lazzaretto Nuovo. \nRientro ore 18.30 circa. \nPer maggiori informazioni\, tariffe e prenotazioni contattateci. \n
URL:https://www.navigazionestefanato.it/eventi/lazzaretto-nuovo-torcello-burano/
LOCATION:Via Trieste\, 94\, Portegrandi\, Venezia\, 30020\, Italy
END:VEVENT
END:VCALENDAR