BEGIN:VCALENDAR
VERSION:2.0
PRODID:-//Navigazione Stefanato - ECPv4.6.13//NONSGML v1.0//EN
CALSCALE:GREGORIAN
METHOD:PUBLISH
X-WR-CALNAME:Navigazione Stefanato
X-ORIGINAL-URL:https://www.navigazionestefanato.it
X-WR-CALDESC:Events for Navigazione Stefanato
BEGIN:VEVENT
DTSTART;VALUE=DATE:20210815
DTEND;VALUE=DATE:20210816
DTSTAMP:20260421T071623
CREATED:20210621T100913Z
LAST-MODIFIED:20210621T100913Z
UID:10079-1628985600-1629071999@www.navigazionestefanato.it
SUMMARY:Malamocco-Chioggia/Sottomarina-San Piero in Volta
DESCRIPTION:Imbarco ore 08.00 \nPartenza ore 08.15 da Portegrandi (ve). \nParcheggio non a pagamento in via Trieste 94 Portegrandi (ve). \nUna volta partiti effettueremo la spiegazione a bordo in italiano\, con una navigazione di un breve tratto del fiume Sile\, per poi passare attraverso la conca di navigazione dove una volta passati navigheremo il vecchio alveo del fiume.\nImmersi nella flora e fauna\, vedremo bilance da pesca\, valli e barene. \nRicco e abbondante merendino mattutino con crostini (salumi di fattoria\, formaggio\, acciughe\, sarde fritte ecc.) vino e acqua. \nSosta nelle isole di:\nMalamocco (spiegazione guidata).\nChioggia/Sottomarina (tempo libero).\nSan Pietro in Volta (tempo libero e pausa gelato). \nPranzo a bordo\nMenù:\nRisotto di pesce\nFrittura di calamari e gamberi con contorno.\nVino e acqua durante i pasti a volontà.\nCaffè con grappa.\nPer chi non mangia pesce possibilità di avere un menù di carne su richiesta. \nNel rientro sarà servita una pasta al sugo con pane e mortadella\, vino e acqua.\nDolci vari\nAmaro e limoncello. \nRientro ore 21.00/21.30 circa. \nTariffe in abbinata ad altre comitive:\n€80\,00 per adulto\, che comprende la navigazione + la spiegazione a Malamocco + la spiegazione a bordo + il pranzo/cena come descritto nel programma.\n€40\,00 per i ragazzi dai 6 ai 14 anni.\n(Condizioni agevolate per agenzie e t.o.) \nPer ulteriori informazioni e prenotazioni:\ninfo@navigazionestefanato.it oppure contattare i seguenti numeri:\n0422788663\n3403484172 Nicolas\n3356296606 Michele \nNOTA BENE:\nI tour vengono effettuati con un minimo di persone e naturalmente nel rispetto delle norme che saranno in vigore.\nLa prenotazione è consigliata per tempo in quanto i posti sono sempre limitati. \nDirezione tecnica\nD. tour snc \n
URL:https://www.navigazionestefanato.it/eventi/malamocco-chioggia-sottomarina-san-piero-in-volta/
LOCATION:Via Trieste\, 94\, Portegrandi\, Venezia\, 30020\, Italy
END:VEVENT
END:VCALENDAR