BEGIN:VCALENDAR
VERSION:2.0
PRODID:-//Navigazione Stefanato - ECPv4.6.13//NONSGML v1.0//EN
CALSCALE:GREGORIAN
METHOD:PUBLISH
X-WR-CALNAME:Navigazione Stefanato
X-ORIGINAL-URL:https://www.navigazionestefanato.it
X-WR-CALDESC:Events for Navigazione Stefanato
BEGIN:VEVENT
DTSTART;TZID=Europe/Rome:20220526T093000
DTEND;TZID=Europe/Rome:20220526T163000
DTSTAMP:20260421T134628
CREATED:20220414T141242Z
LAST-MODIFIED:20220414T141242Z
UID:11276-1653557400-1653582600@www.navigazionestefanato.it
SUMMARY:Navigazione naturalistica lungo il parco del fiume Sile
DESCRIPTION:Partenza da Quarto d’Altino (ve) ore 09.30\n(Imbarco previsto 10/15 minuti prima della partenza) \nParcheggio non a pagamento in via Piazza San Michele 74 Quarto d’Altino (ve)\, in prossimità dell’argine oppure della Chiesa del Paese. \nDurante la navigazione verrà illustrata la storia del fiume sile dalla sua nascita\, all’ importanza commerciale\, e delle sue bellezze che la circondano\, dalla flora\, fauna e Ville Venete.\nIl fiume e’ considerato una “piccola foresta amazzonica”. \n10.10 (circa) Sosta nel paese rivierasco di Casale sul Sile: spiegazione guidata della parte storica (Torre Carrarese esternamente\, Villa Frezza\, che durante le 2 Guerre Mondiali divento’ un’ospedale da campo dove Hemingway trasportava i feriti e fu anche un deposito di ambulanze. Se disponibile visita della Chiesa dove all’interno ci sono delle opere di Gian Domenico Tiepolo che rappresentano il Trionfo e la Fede). \n11.30 (circa) Reimbarco e navigazione lungo il tratto delle Ville Venete. \n12.30/13.00 circa\, possibilità di consumare il pranzo al sacco nella motonave oppure di prenotare il pranzo a bordo.\nMenù di bordo:\nRicco e abbondante merendino mattutino con cicchetti misti\, vino e acqua.\nA pranzo:\nRisotto di pesce\nFiletto di branzino al forno contorno\nDolce della barca.\nVino e acqua durante i pasti a volontà.\nCaffè con grappa e amaro.\nPer chi non mangia pesce possibilità di avere un menù di carne su richiesta. \nPanoramica del cimitero dei “burci”. \n14.00-15.00 circa\, sosta nel paese rivierasco di Casier (TV)\, passeggiata libera nella “restera” e pausa gelato. \nIn alternativa\, per le persone arrivate con macchine proprie\, c’è la possibilità di effettuare il rientro da Casier (TV) a Quarto d’Altino (VE) attraverso la “restera” circondati da flora e fauna con la bicicletta (noleggiata dalla Venice trail) per una tempistica di circa 2 ore\, ad un costo di €25\,00 a persona (solo su prenotazione anticipata e con un minimo di 10 persone). \nIl rientro in motonave a Quarto d’Altino (VE) e termine dei servizi verso le ore 16.30 circa. \nTARIFFA IN ABBINATA:\n€35\,00 per adulto\, che comprende la navigazione\, la spiegazione a bordo e la spiegazione guidata della parte storica di Casale Sul Sile.\n€20\,00 per ragazzo dai 6 ai 14 anni.\n€10\,00 per i bambini dai 3 ai 5 anni. \nSe viaggio+pranzo a bordo:\n€65\,00 per adulto\, che comprende la navigazione + le spiegazioni a bordo/parte storica di Casale Sul Sile+ il pranzo come descritto nel programma.\n€35\,00 per ragazzo dai 6 ai 14 anni.\n€10\,00 per i bambini dai 3 ai 5 anni.\n(Condizioni agevolate per agenzie e t.o.) \nPer ulteriori informazioni e prenotazioni:\ninfo@navigazionestefanato.it oppure contattare i seguenti numeri:\n0422788663\n3403484172 Nicolas\n3356296606 Michele \nNOTA BENE:\nI tour vengono effettuati con un minimo di persone.\nLa prenotazione è consigliata per tempo in quanto i posti/biciclette sono sempre limitati. \nDirezione tecnica\nD. tour snc \n
URL:https://www.navigazionestefanato.it/eventi/navigazione-naturalistica-lungo-il-parco-del-fiume-sile-20/
LOCATION:Piazza San Michele\, 74\, Quarto D'Altino\, Venezia\, 30020\, Italy
END:VEVENT
END:VCALENDAR