BEGIN:VCALENDAR
VERSION:2.0
PRODID:-//Navigazione Stefanato - ECPv4.6.13//NONSGML v1.0//EN
CALSCALE:GREGORIAN
METHOD:PUBLISH
X-WR-CALNAME:Navigazione Stefanato
X-ORIGINAL-URL:https://www.navigazionestefanato.it
X-WR-CALDESC:Events for Navigazione Stefanato
BEGIN:VEVENT
DTSTART;VALUE=DATE:20260405
DTEND;VALUE=DATE:20260406
DTSTAMP:20260421T102126
CREATED:20250902T075449Z
LAST-MODIFIED:20251009T151643Z
UID:17915-1775347200-1775433599@www.navigazionestefanato.it
SUMMARY:Pasqua in laguna 2026 (Santa Messa a Sant'Erasmo\, Pranzo panoramico a Venezia\, Burano)
DESCRIPTION:Durata tour: circa 7 ore \nParcheggio e ZTL: gratuiti a Portegrandi e situati a circa 5 minuti a piedi dal punto di imbarco \nDescrizione tour:  inizio escursione a Portegrandi\, navigazione lungo il tratto finale del fiume Sile sino ad approdare tra le barene selvagge della laguna. Transito lungo la zona archeologica di Altino e la famosa isola di Torcello\, famosa per il Trono di Attila\, la celebre chiesa di Santa Maria Assunta e la Locanda Cipriani. Sosta per Santa Messa presso Sant’Erasmo\, isola degli antichi orti della Repubblica. Pranzo pasquale al rientro a bordo servito al tavolo mentre ci recheremo a Venezia per una bellissima navigazione panoramica senza sosta. Alla fine del pranzo visiteremo Burano\, la città più colorata al mondo. Escursione garantita anche in caso di mal tempo (consigliamo sempre di portare un K-way); motonave riscaldata\, dotata di bar e servizio toilette. \nOrari tour (sono indicativi e possono subire delle piccole variazioni): \n\nImbarco: Portegrandi\, dalle ore 08.40\nPartenza: Portegrandi\, ore 09.00\nMessa a Sant’Erasmo (facoltativa): 10.30-11.45\nPranzo panoramico: 12.00 – 14.30\nBurano: 15.00-16-30\nArrivo: Portegrandi\, ore 18.00 circa\n\nTariffe escursione (include la navigazione\, la sosta a Burano\, il pranzo a bordo\, la spiegazione guidata a bordo in italiano e l’intrattenimento musicale): \n\n€ 80 adulti\n€ 45 ragazzi (dai 6 ai 14 anni)\n€ 15 bambini (dai 3 ai 5 anni)\n\nPagamento escursione:  \n\na bordo in contanti\nmediante bonifico da app bancaria sul telefono\nbonifico vista fattura post escursione\n\nMenù pranzo pasquale: \n\naperitivo con cicchetti vari\, radicchio in pastella\, vino e acqua\npolenta con salame cotto\, involtino di pancetta ed asparagi con uova\nrisotto con asparagi e speck croccante\nguancetta di maiale cotta a  bassa temperatura con patate\nfocaccia pasquale con crema\ncaffè\ngrappa\, amaro e limoncello\nvino bianco frizzante\, acqua naturale e frizzante a volontà durante il pasto\n\nPer prenotare l’escursione compilare ed inviarci via mail i seguenti campi:  \n\nData tour: domenica 5 aprile\nNome tour: Pasqua in laguna\nNome Referente prenotazione:\nNumero di telefono:\nTotale partecipanti:\nAltro:\n\nCome annullare l’escursione? \n\nVi preghiamo di inviarci una mail almeno 24 ore prima dell’escursione\n\nCosa è importante sapere? \n\nMotonave riscaldata\, bar\, servizio toilette.\nMotonave dotata di tutte le strumentazioni di sicurezza e provvista di regolare licenza per il trasporto passeggeri\nEscursione garantita anche in caso di maltempo: consigliamo di portare sempre un ombrello ed un K-way.\nIl giorno prima dell’escursione invieremo un sms al numero di cellulare fornito con tutti i dettagli relativi all’imbarco\nLa Direzione può modificare o interrompere l’escursione sia per motivi metereologici che per motivi di sicurezza\n\n
URL:https://www.navigazionestefanato.it/eventi/pasqua-in-laguna-2026/
LOCATION:Via Marzi\, Portegrandi\, Venezia\, 30020\, Italy
ATTACH;FMTTYPE=image/jpeg:https://www.navigazionestefanato.it/wp-content/uploads/2025/09/VENEZIA-SOSPIRI.jpg
END:VEVENT
END:VCALENDAR