BEGIN:VCALENDAR
VERSION:2.0
PRODID:-//Navigazione Stefanato - ECPv4.6.13//NONSGML v1.0//EN
CALSCALE:GREGORIAN
METHOD:PUBLISH
X-WR-CALNAME:Navigazione Stefanato
X-ORIGINAL-URL:https://www.navigazionestefanato.it
X-WR-CALDESC:Events for Navigazione Stefanato
BEGIN:VEVENT
DTSTART;VALUE=DATE:20190422
DTEND;VALUE=DATE:20190423
DTSTAMP:20260421T124748
CREATED:20190119T092505Z
LAST-MODIFIED:20190119T092505Z
UID:6921-1555891200-1555977599@www.navigazionestefanato.it
SUMMARY:Pasquetta in laguna
DESCRIPTION:Partenza ore 08.30 da Portegrandi (ve). \nParcheggio non a pagamento. \nUna volta partiti effettueremo la spiegazione a bordo con una navigazione di un breve tratto del fiume Sile\, per poi passare attraverso la conca di navigazione dove una volta passati navigheremo il vecchio alveo del fiume. \nImmersi nella flora e fauna\, vedremo bilance da pesca\, valli e barene. \nSosta nelle isole di: \n-Torcello (tempo libero oppure a pagamento possibilità di salire sopra al campanile o visitare la Cattedrale della Santa Maria Assunta o il museo\, mentre l’ingresso nella Chiesa di Santa Fosca è libero). \n-Murano (visita ad una fornace vetraria con spiegazione gratuita e tempo libero). \n-Burano (pausa pranzo e tempo libero). \nPossibilità di pranzo al sacco nella motonave oppure in un ristorante convenzionato in centro a Burano. \nL’ordine e gli orari delle soste verranno definiti al momento della partenza in base alla disponibilità della fornace vetraria. \nRientro ore 18.30 circa. \nPer ulteriori informazioni\, tariffe e prenotazioni contattateci. \n
URL:https://www.navigazionestefanato.it/eventi/pasquetta-in-laguna/
LOCATION:Via Trieste\, 94\, Portegrandi\, Venezia\, 30020\, Italy
END:VEVENT
END:VCALENDAR