BEGIN:VCALENDAR
VERSION:2.0
PRODID:-//Navigazione Stefanato - ECPv4.6.13//NONSGML v1.0//EN
CALSCALE:GREGORIAN
METHOD:PUBLISH
X-WR-CALNAME:Navigazione Stefanato
X-ORIGINAL-URL:https://www.navigazionestefanato.it
X-WR-CALDESC:Events for Navigazione Stefanato
BEGIN:VEVENT
DTSTART;VALUE=DATE:20191022
DTEND;VALUE=DATE:20191023
DTSTAMP:20260421T133746
CREATED:20191001T135402Z
LAST-MODIFIED:20191001T135402Z
UID:8217-1571702400-1571788799@www.navigazionestefanato.it
SUMMARY:RISALITA DEL FIUME SILE
DESCRIPTION:Partenza da Quarto d’Altino (ve) ore 09.00 \nParcheggio non a pagamento. \nDurante la navigazione verrà illustrata la storia del fiume sile dalla sua nascita\, all’ importanza commerciale\, e delle sue bellezze che la circondano\, dalla flora\, fauna e Ville Venete. \nIl fiume e’ considerato una “piccola foresta amazzonica”. \n09.45 (circa) Sosta nel paese rivierasco di Casale sul Sile: spiegazione guidata della parte storica (Torre Carrarese esternamente\, Villa Frezza\, che durante le 2 Guerre Mondiali divento’ un’ospedale da campo dove Hemingway trasportava i feriti e fu anche un deposito di ambulanze. Se disponibile visita della Chiesa dove all’interno ci sono delle opere di Gian Domenico Tiepolo che rappresentano il Trionfo e la Fede). \n11.00 (circa) Reimbarco e navigazione lungo il tratto delle Ville Venete. \nPossibilità di pranzo al sacco oppure in un ristorante convenzionato o in una osteria a Casier (tv). \n12.30/13.00 circa\, sosta nel paese rivierasco di Casier (pausa pranzo e tempo libero).  \nPossibilità di terminare il viaggio se gruppo organizzato con pullman proprio\, il quale proseguirà con una visita guidata nella città di Treviso oppure  visita ad una cantina di vino.  \nPer le persone singole in abbinata sarà effettuata una sosta con passeggiata. \n14.30 (circa) Reimbarco. \nRientro a Quarto d’Altino e termine dei servizi verso le ore 16.30 circa. \nPer maggiori informazioni\, tariffe e prenotazione contattateci. \n(Non possiamo inserire le tariffe\, per varie collaborazioni con agenzie\, associazioni ecc. grazie per l’attenzione!!!). \n
URL:https://www.navigazionestefanato.it/eventi/risalita-del-fiume-sile-25/
LOCATION:Piazza San Michele\, 74\, Quarto D'Altino\, Venezia\, 30020\, Italy
END:VEVENT
END:VCALENDAR