BEGIN:VCALENDAR
VERSION:2.0
PRODID:-//Navigazione Stefanato - ECPv4.6.13//NONSGML v1.0//EN
CALSCALE:GREGORIAN
METHOD:PUBLISH
X-WR-CALNAME:Navigazione Stefanato
X-ORIGINAL-URL:https://www.navigazionestefanato.it
X-WR-CALDESC:Events for Navigazione Stefanato
BEGIN:VEVENT
DTSTART;VALUE=DATE:20200517
DTEND;VALUE=DATE:20200518
DTSTAMP:20260421T090234
CREATED:20200117T153939Z
LAST-MODIFIED:20200117T153939Z
UID:8422-1589673600-1589759999@www.navigazionestefanato.it
SUMMARY:RISALITA DEL FIUME SILE
DESCRIPTION:Partenza da Portegrandi (ve) ore 09.00 \nParcheggio non a pagamento. \nMotonave riscaldata. \nDurante la navigazione verrà illustrata la storia del fiume sile dalla sua nascita\, all’ importanza commerciale\, e delle sue bellezze che la circondano\, dalla flora\, fauna e Ville Venete. \nIl fiume e’ considerato una “piccola foresta amazzonica”. \n10.15 (circa) Sosta nel paese rivierasco di Casale sul Sile: spiegazione guidata della parte storica (Torre Carrarese esternamente\, Villa Frezza\, che durante le 2 Guerre Mondiali divento’ un’ospedale da campo dove Hemingway trasportava i feriti e fu anche un deposito di ambulanze. Se disponibile visita della Chiesa dove all’interno ci sono delle opere di Gian Domenico Tiepolo che rappresentano il Trionfo e la Fede). \n11.30 (circa) Reimbarco e navigazione lungo il tratto delle Ville Venete. \n12.30/13.00 circa\, pranzo a bordo. \nMenù: \nMerendino mattutino con crostini (salumi di fattoria\, formaggio\, acciughe ecc.) prosecco alla spina e acqua. \nA pranzo:  \nRisotto di pesce  \nFrittura di calamari e gamberi con contorno  \nDolce. \nProsecco alla spina e acqua durante i pasti a volontà. \nCaffè con grappa e amaro.  \nPer chi non mangia pesce possibilità di avere un menù di carne su richiesta. \nPanoramica del cimitero dei “burci”. \n14.00/14.30 circa\, sosta nel paese rivierasco di Casier (tv)\, passeggiata libera nella “restera”. \nPossibilità di terminare il viaggio se gruppo organizzato con pullman proprio\, il quale proseguirà con una visita guidata nella città di Treviso oppure  visita ad una cantina di vino. Per le persone singole in abbinata sarà effettuata una sosta con passeggiata. \n15.00/15.30 (circa) Reimbarco. \nRientro a Portegrandi (ve) e termine dei servizi verso le ore 17.00 circa. \nPer ulteriori informazioni\, tariffe e prenotazioni contattateci ai seguenti numeri: \n(Per varie collaborazioni con agenzie\, associazioni\, Hotel ecc. non possiamo pubblicare le tariffe\, grazie per la Vostra attenzione!!!). \n0422788663  \n3403484172 Nicolas  \n3356296606 Michele \n3355245599 Glauco \n
URL:https://www.navigazionestefanato.it/eventi/risalita-del-fiume-sile-31/
LOCATION:Via Trieste\, 94\, Portegrandi\, Venezia\, 30020\, Italy
END:VEVENT
END:VCALENDAR