BEGIN:VCALENDAR
VERSION:2.0
PRODID:-//Navigazione Stefanato - ECPv4.6.13//NONSGML v1.0//EN
CALSCALE:GREGORIAN
METHOD:PUBLISH
X-WR-CALNAME:Navigazione Stefanato
X-ORIGINAL-URL:https://www.navigazionestefanato.it
X-WR-CALDESC:Events for Navigazione Stefanato
BEGIN:VEVENT
DTSTART;VALUE=DATE:20180610
DTEND;VALUE=DATE:20180611
DTSTAMP:20260422T091736
CREATED:20180501T205401Z
LAST-MODIFIED:20180501T205401Z
UID:6714-1528588800-1528675199@www.navigazionestefanato.it
SUMMARY:San Francesco del Deserto-Burano-San Giorgio Maggiore
DESCRIPTION:Partenza ore 08.30 da Portegrandi (ve). \nZtl e parcheggio non a pagamento. \nUna volta partiti effettueremo la spiegazione a bordo con una navigazione di un breve tratto del fiume sile per poi passare attraverso la conca di navigazione dove una volta passati navigheremo il vecchio alveo del fiume\, immersi nella flora e fauna\, vedremo bilance da pesca\, valli e barene. \nSosta nelle isole di: San Francesco del Deserto (spiegazione guidata da parte dei padri gratuita). Burano (pausa pranzo e tempo libero). San Giorgio Maggiore (tempo libero oppure a pagamento c’è la possibilità di salire sopra al campanile per visionare la laguna dall’alto\, invece l’ingresso nella chiesa e’ libero). \nPossibilità di pranzo al sacco nella motonave oppure in un ristorante convenzionato in centro a Burano. \nL’ordine e gli orari delle soste verranno definiti al momento della partenza. \nRientro ore 18.30 circa. \nPer ulteriori informazioni\, tariffe e prenotazioni contattateci. \n
URL:https://www.navigazionestefanato.it/eventi/san-francesco-del-deserto-burano-san-giorgio-maggiore/
LOCATION:Via Trieste\, 94\, Portegrandi\, Venezia\, 30020\, Italy
END:VEVENT
END:VCALENDAR