BEGIN:VCALENDAR
VERSION:2.0
PRODID:-//Navigazione Stefanato - ECPv4.6.13//NONSGML v1.0//EN
CALSCALE:GREGORIAN
METHOD:PUBLISH
X-WR-CALNAME:Navigazione Stefanato
X-ORIGINAL-URL:https://www.navigazionestefanato.it
X-WR-CALDESC:Events for Navigazione Stefanato
BEGIN:VEVENT
DTSTART;VALUE=DATE:20250720
DTEND;VALUE=DATE:20250721
DTSTAMP:20260421T134730
CREATED:20250623T124828Z
LAST-MODIFIED:20250623T124828Z
UID:17288-1752969600-1753055999@www.navigazionestefanato.it
SUMMARY:San Francesco del Deserto-San Lazzaro degli Armeni-Burano
DESCRIPTION:Domenica 20 Luglio\n(San Francesco del Deserto-San Lazzaro degli Armeni-Burano) \nProgramma:\nPartenza ore 08.45 da Portegrandi (VE). \nParcheggio non a pagamento in via Trieste 94 Portegrandi (VE). \nUna volta partiti effettueremo la spiegazione a bordo in italiano\, dove navigheremo il vecchio alveo del fiume Sile.\nImmersi nella flora e fauna\, vedremo bilance da pesca\, valli e barene. \nSosta nelle isole di: \n-SAN FRANCESCO DEL DESERTO (spiegazione guidata gratuita da parte del Padre) offerta libera. \n-SAN LAZZARO DEGLI ARMENI (spiegazione guidata a pagamento €8\,00 per adulto – €5\,00 per ragazzo in età scolastica). \n-BURANO (tempo libero). \nPranzo a bordo durante la navigazione con la panoramica delle isole della laguna.\nMenù:\nRicco e abbondante merendino mattutino con cicchetti misti\, vino e acqua.\nA pranzo:\nRisotto di pesce\nFiletto di branzino al forno con patate.\nDolce della barca.\nVino e acqua durante i pasti a volontà.\nCaffè con grappa e amaro.\nPer chi non mangia pesce possibilità di avere un menù di carne su richiesta. \nRientro ore 18.00/18.30 circa. \nTariffa in abbinata:\n€75\,00 per adulto\, che comprende la navigazione + la spiegazione a bordo + il pranzo come descritto nel programma.\n€40\,00 per i ragazzi dai 6 ai 14 anni.\n€15\,00 per i bambini dai 3 ai 5 anni.\n+\nExtra ingressi Armeni \nPer ulteriori informazioni e prenotazioni:\ninfo@navigazionestefanato.it oppure contattare i seguenti numeri:\n0422788663\n3403484172 Nicolas\n3453119321 Zigret\n3356296606 Michele \nNOTA BENE\nLa partenza viene effettuata con un minimo di partecipati.\nLa prenotazione è consigliata per tempo in quanto i posti sono sempre limitati.\nIn caso di pioggia la navigazione\, viene effettuata senza problemi\, in quanto il laguna il meteo è variabile (in caso di forze maggiori sarete contattati). \nDirezione tecnica\nD. tour \n
URL:https://www.navigazionestefanato.it/eventi/san-francesco-del-deserto-san-lazzaro-degli-armeni-burano-5/
LOCATION:Via Trieste\, 94\, Portegrandi\, Venezia\, 30020\, Italy
END:VEVENT
END:VCALENDAR