BEGIN:VCALENDAR
VERSION:2.0
PRODID:-//Navigazione Stefanato - ECPv4.6.13//NONSGML v1.0//EN
CALSCALE:GREGORIAN
METHOD:PUBLISH
X-WR-CALNAME:Navigazione Stefanato
X-ORIGINAL-URL:https://www.navigazionestefanato.it
X-WR-CALDESC:Events for Navigazione Stefanato
BEGIN:VEVENT
DTSTART;VALUE=DATE:20200322
DTEND;VALUE=DATE:20200323
DTSTAMP:20260422T091449
CREATED:20200106T140050Z
LAST-MODIFIED:20200106T140711Z
UID:8361-1584835200-1584921599@www.navigazionestefanato.it
SUMMARY:SAN LAZZARO DEGLI ARMENI-GIUDECCA-BURANO
DESCRIPTION:Partenza ore 08.30 da Portegrandi (ve). \nParcheggio non a pagamento. \nMotonave riscaldata. \nUna volta partiti effettueremo la spiegazione a bordo\, con una navigazione di un breve tratto del fiume Sile\, per poi passare attraverso la conca di navigazione dove una volta passati navigheremo il vecchio alveo del fiume. \nImmersi nella flora e fauna\, vedremo bilance da pesca\, valli e barene. \nSosta nelle isole di: \n-Burano (tempo libero) \n-San Lazzaro degli Armeni (spiegazione guidata a pagamento). \n-Giudecca (spiegazione guidata). \nPossibilità’ di pranzo a bordo oppure al sacco. \nMenù di bordo: \nmerendino mattutino con crostini (salumi di fattoria\, formaggio\, acciughe\, sarde fritte ecc.) prosecco alla spina e acqua. \nA pranzo:  \nRisotto di pesce  \nFrittura di calamari e gamberi con contorno  \nDolce. \nProsecco alla spina e acqua durante i pasti a volontà. \nCaffè con grappa e amaro.  \nPer chi non mangia pesce possibilità di avere un menù di carne su richiesta. \nL’ordine e gli orari delle soste verranno definiti al momento della partenza in base alle visite guidate. \nRientro ore 18.30 circa. \nPer ulteriori informazioni\, tariffe e prenotazioni contattare i seguenti numeri: \n(Per varie collaborazioni con agenzie\, associazione\, Hotel ecc. non possiamo pubblicare le tariffe\, grazie per la Vostra attenzione!!!). \n0422788663  \n3403484172 Nicolas  \n3356296606 Michele  \n3355245599 Glauco \n
URL:https://www.navigazionestefanato.it/eventi/san-lazzaro-degli-armeni-giudecca-burano/
LOCATION:Via Trieste\, 94\, Portegrandi\, Venezia\, 30020\, Italy
END:VEVENT
END:VCALENDAR