BEGIN:VCALENDAR
VERSION:2.0
PRODID:-//Navigazione Stefanato - ECPv4.6.13//NONSGML v1.0//EN
CALSCALE:GREGORIAN
METHOD:PUBLISH
X-WR-CALNAME:Navigazione Stefanato
X-ORIGINAL-URL:https://www.navigazionestefanato.it
X-WR-CALDESC:Events for Navigazione Stefanato
BEGIN:VEVENT
DTSTART;VALUE=DATE:20191006
DTEND;VALUE=DATE:20191007
DTSTAMP:20260421T090405
CREATED:20190423T093116Z
LAST-MODIFIED:20190423T093116Z
UID:7499-1570320000-1570406399@www.navigazionestefanato.it
SUMMARY:SAN LAZZARO DEGLI ARMENI-SAN FRANCESCO DEL DESERTO-TORCELLO
DESCRIPTION:Partenza ore 08.30 da Portegrandi (ve). \nParcheggio non a pagamento. \nUna volta partiti effettueremo la spiegazione a bordo con una navigazione di un breve tratto del fiume Sile\, per poi passare attraverso la conca di navigazione dove una volta passati navigheremo il vecchio alveo del fiume. \nImmersi nella flora e fauna\, vedremo bilance da pesca\, valli e barene. \nSosta nelle isole di: \n-San Lazzaro degli Armeni (spiegazione guidata a pagamento). \n-San Francesco del Deserto (spiegazione guidata da parte del padre gratuita). \n-Torcello (tempo libero oppure a pagamento possibilità di salire sopra al campanile o visitare la Cattedrale della Santa Maria Assunta o il museo\, mentre l’ingresso nella Chiesa di Santa Fosca è’ libero). \nAl raggiungimento del limite di ingressi per San Lazzaro degli Armeni\, sarà effettuata una sosta a San Giorgio Maggiore (spiegazione guidata) per i restanti partecipanti. \nPossibilità’ di pranzo a bordo oppure al sacco. \nL’ordine e gli orari delle soste verranno definiti al momento della partenza e in base alle visite guidate. \nRientro ore 18.30 circa. \nPer ulteriori informazioni\, tariffe e prenotazioni contattateci. \n
URL:https://www.navigazionestefanato.it/eventi/san-lazzaro-degli-armeni-san-francesco-del-deserto-torcello/
LOCATION:Via Trieste\, 94\, Portegrandi\, Venezia\, 30020\, Italy
END:VEVENT
END:VCALENDAR