BEGIN:VCALENDAR
VERSION:2.0
PRODID:-//Navigazione Stefanato - ECPv4.6.13//NONSGML v1.0//EN
CALSCALE:GREGORIAN
METHOD:PUBLISH
X-WR-CALNAME:Navigazione Stefanato
X-ORIGINAL-URL:https://www.navigazionestefanato.it
X-WR-CALDESC:Events for Navigazione Stefanato
BEGIN:VEVENT
DTSTART;VALUE=DATE:20240525
DTEND;VALUE=DATE:20240526
DTSTAMP:20260421T090151
CREATED:20240521T091156Z
LAST-MODIFIED:20240521T091156Z
UID:15040-1716595200-1716681599@www.navigazionestefanato.it
SUMMARY:Serata a Venezia con cena e passeggiata
DESCRIPTION:Sabato 25 Maggio\nSerata a Venezia con cena e passeggiata. \nProgramma:\nPartenza ore 19.00 da Portegrandi (VE). \nParcheggio non a pagamento in via Trieste 94 Portegrandi (VE). \nUna volta partiti effettueremo la spiegazione a bordo in italiano\, dove navigheremo il vecchio alveo del fiume Sile.\nImmersi nella flora e fauna\, vedremo bilance da pesca\, valli e barene. \nA seguire sarà servita la cena in navigazione con una panoramica delle isole della laguna e del “salotto più bello al Mondo”….il bacino di San Marco.\nMenù di bordo:\nAntipasto\nInsalata di mare con verdure\, baccalà mantecato\, sarde in saor.\nRisotto di pesce\nFiletto di branzino al forno con contorno\nDolce della barca\nVino e acqua durante i pasti a volontà.\nCaffè con grappa e amaro.\nPer chi non mangia pesce possibilità di avere un menù di carne su richiesta. \n21.00-22.00/22.15 circa\, sosta a Venezia (passeggiata libera) \nIntrattenimento musicale in fase di rientro. \nRientro a Portegrandi (VE) verso le ore 00.00 circa. \nTariffa in abbinata:\n€80\,00 per adulto\, che comprende la navigazione + la spiegazione a bordo+ la cena come descritta nel programma.\n€40\,00 per i ragazzi dai 6 ai 14 anni\n€15\,00 per i bambini dai 3 ai 5 anni \nPer ulteriori informazioni e prenotazioni:\ninfo@navigazionestefanato.it oppure contattare i seguenti numeri:\n0422788663\n3403484172 Nicolas\n3356296606 Michele \nNOTA BENE\nLa partenza viene effettuata con un minimo di partecipati.\nLa prenotazione è consigliata per tempo in quanto i posti sono sempre limitati.\nIn caso di pioggia la navigazione\, viene effettuata senza problemi\, in quanto il laguna il meteo è variabile (in caso di forze maggiori sarete contattati). \nDirezione tecnica\nD. tour \n
URL:https://www.navigazionestefanato.it/eventi/serata-a-venezia-con-cena-e-passeggiata/
LOCATION:Via Trieste\, 94\, Portegrandi\, Venezia\, 30020\, Italy
END:VEVENT
END:VCALENDAR