BEGIN:VCALENDAR
VERSION:2.0
PRODID:-//Navigazione Stefanato - ECPv4.6.13//NONSGML v1.0//EN
CALSCALE:GREGORIAN
METHOD:PUBLISH
X-WR-CALNAME:Navigazione Stefanato
X-ORIGINAL-URL:https://www.navigazionestefanato.it
X-WR-CALDESC:Events for Navigazione Stefanato
BEGIN:VEVENT
DTSTART;VALUE=DATE:20230722
DTEND;VALUE=DATE:20230723
DTSTAMP:20260421T121840
CREATED:20230717T101918Z
LAST-MODIFIED:20230717T101918Z
UID:13738-1689984000-1690070399@www.navigazionestefanato.it
SUMMARY:Serata con cena e passeggiata a Venezia
DESCRIPTION:Serata in laguna con cena \nSabato 22 Luglio\nPartenza ore 16.00 da Portegrandi (VE). \nParcheggio non a pagamento in via Trieste 94 Portegrandi (VE) \nUna volta partiti effettueremo la spiegazione a bordo in italiano\, con una navigazione di un breve tratto del fiume sile per poi passare attraverso la conca di navigazione dove una volta passati navigheremo il vecchio alveo del fiume\, immersi nella flora e fauna\, vedremo bilance da pesca\, valli e barene. \nRicco e abbondante aperitivo di benvenuto con cicchetti misti\, vino e acqua. \n18.00-20.15 circa\, sosta a Venezia (tempo libero). \nReimbarco\, a seguire sarà servita la cena in navigazione.\nMenù di bordo:\nRisotto di pesce\nFiletto di branzino al forno con contorno.\nDolce della barca\nVino e acqua durante i pasti a volontà.\nCaffè con grappa e amaro.\nPer chi non mangia pesce possibilità di avere un menù di carne su richiesta. \nIntrattenimento musicale nel dopo cena. \nRientro a Portegrandi (VE) verso le ore 23.00 circa. \nTariffa in abbinata:\n€75\,00 per adulto\, che comprende la navigazione + la spiegazione a bordo+ la cena come descritta nel programma.\n€35\,00 per i ragazzi dai 6 ai 14 anni.\n€15\,00 per i bambini dai 3 ai 5 anni.\nPer ulteriori informazioni e prenotazioni:\ninfo@navigazionestefanato.it oppure contattare i seguenti numeri:\n0422788663\n3403484172 Nicolas\n3356296606 Michele \nNOTA BENE:\nI tour vengono effettuati con un minimo di persone.\nLa prenotazione è consigliata per tempo in quanto i posti sono sempre limitati.\nIn caso di pioggia la navigazione\, viene effettuata senza problemi\, in quanto il laguna il meteo è variabile (in caso di forze maggiori sarete contattati). \nDirezione tecnica\nD. tour snc \n
URL:https://www.navigazionestefanato.it/eventi/serata-con-cena-e-passeggiata-a-venezia-2/
LOCATION:Via Trieste\, 94\, Portegrandi\, Venezia\, 30020\, Italy
END:VEVENT
END:VCALENDAR