BEGIN:VCALENDAR
VERSION:2.0
PRODID:-//Navigazione Stefanato - ECPv4.6.13//NONSGML v1.0//EN
CALSCALE:GREGORIAN
METHOD:PUBLISH
X-WR-CALNAME:Navigazione Stefanato
X-ORIGINAL-URL:https://www.navigazionestefanato.it
X-WR-CALDESC:Events for Navigazione Stefanato
BEGIN:VEVENT
DTSTART;TZID=Europe/Rome:20200708T163000
DTEND;TZID=Europe/Rome:20200709T000000
DTSTAMP:20260421T085858
CREATED:20200422T102247Z
LAST-MODIFIED:20200422T102247Z
UID:8629-1594225800-1594252800@www.navigazionestefanato.it
SUMMARY:SERATA IN LAGUNA
DESCRIPTION:Partenza ore 16.30 da Portegrandi (ve). \n  \nParcheggio non a pagamento. \n  \nUna volta partiti effettueremo la spiegazione a bordo\, con una navigazione di un breve tratto del fiume sile per poi passare attraverso la conca di navigazione dove una volta passati navigheremo il vecchio alveo del fiume\, immersi nella flora e fauna\, vedremo bilance da pesca\, valli e barene. \n  \nDurante la navigazione sarà servito un buffet con crostini misti (salumi di fattoria\, formaggio\, acciughe\, fritti misti ecc.)\, Prosecco e acqua. \n  \n18.00-19.00 circa\, sosta a Burano (passeggiata libera). \n  \nReimbarco\, a seguire sarà servita la cena in navigazione lenta\, con panoramica del Bacino di San Marco. \nMenù: \nRisotto di pesce \nFrittura di calamari e gamberi con contorno. \nDolce. \nProsecco e acqua durante la cena a volontà. \nCaffè con grappa e amaro. \nPer chi non mangia pesce possibilità di avere un menù di carne su richiesta.  \nTerminata la cena\, sarà effettuata una sosta a Venezia (passeggiata libera). \n  \nRientro a Portegrandi verso le ore 00.00 circa. \nPer ulteriori informazioni\, tariffe e prenotazioni\, contattare i seguenti numeri: \n0422788663-3403484172 Nicolas \n3356296606 Michele \nNOTA BENE  \nPer varie collaborazioni con agenzie\, associazioni\, Hotel ecc. le tariffe non possono essere inserite\, grazie per la Vostra attenzione!! \n
URL:https://www.navigazionestefanato.it/eventi/serata-in-laguna-18/
LOCATION:Via Trieste\, 94\, Portegrandi\, Venezia\, 30020\, Italy
END:VEVENT
END:VCALENDAR