BEGIN:VCALENDAR
VERSION:2.0
PRODID:-//Navigazione Stefanato - ECPv4.6.13//NONSGML v1.0//EN
CALSCALE:GREGORIAN
METHOD:PUBLISH
X-WR-CALNAME:Navigazione Stefanato
X-ORIGINAL-URL:https://www.navigazionestefanato.it
X-WR-CALDESC:Events for Navigazione Stefanato
BEGIN:VEVENT
DTSTART;VALUE=DATE:20190922
DTEND;VALUE=DATE:20190923
DTSTAMP:20260421T132232
CREATED:20190614T152647Z
LAST-MODIFIED:20190614T152647Z
UID:7666-1569110400-1569196799@www.navigazionestefanato.it
SUMMARY:TORCELLO-BURANO-MURANO
DESCRIPTION:Partenza ore 08.30 da Portegrandi (ve). \nParcheggio non a pagamento. \nUna volta partiti effettueremo la spiegazione a bordo\, con una navigazione di un breve tratto del fiume Sile\, per poi passare attraverso la conca di navigazione dove una volta passati navigheremo il vecchio alveo del fiume. \nImmersi nella flora e fauna\, vedremo bilance da pesca\, valli e barene. \nSosta nelle isole di: \n-Torcello (tempo libero oppure a pagamento possibilità di salire sopra al campanile per visionare la laguna dall’alto o visitare la Cattedrale della Santa Maria Assunta o il museo\, mentre l’ingresso nella Chiesa di Santa Fosca è libero). \n-Murano (visita ad una fornace vetraria con spiegazione gratuita e tempo libero). \n-Burano (tempo libero). \nPossibilità di pranzo a bordo.  \nL’ordine e gli orari delle soste verranno definiti al momento della partenza in base alla disponibilità della fornace vetraria. \nRientro ore 18.30 circa. \nPer ulteriori informazioni\, tariffe e prenotazioni contattateci. \n
URL:https://www.navigazionestefanato.it/eventi/torcello-burano-murano-41/
LOCATION:Via Trieste\, 94\, Portegrandi\, Venezia\, 30020\, Italy
END:VEVENT
END:VCALENDAR