BEGIN:VCALENDAR
VERSION:2.0
PRODID:-//Navigazione Stefanato - ECPv4.6.13//NONSGML v1.0//EN
CALSCALE:GREGORIAN
METHOD:PUBLISH
X-WR-CALNAME:Navigazione Stefanato
X-ORIGINAL-URL:https://www.navigazionestefanato.it
X-WR-CALDESC:Events for Navigazione Stefanato
BEGIN:VEVENT
DTSTART;VALUE=DATE:20260517
DTEND;VALUE=DATE:20260518
DTSTAMP:20260421T115638
CREATED:20260114T155820Z
LAST-MODIFIED:20260410T141239Z
UID:18936-1778976000-1779062399@www.navigazionestefanato.it
SUMMARY:Tour in barca a San Francesco\, Armeni e San Giorgio Maggiore (NUOVI POSTI LIBERI: 25)
DESCRIPTION:Durata tour: circa 7  ore \nParcheggio e ZTL: gratuiti a Portegrandi e situati a circa 5 minuti a piedi dal punto di imbarco \nTour: aperto al pubblico\n\nParcheggio e ZTL: gratuito a Portegrandi\n\nDescrizione tour: tour guidato con pranzo a bordo alla scoperta delle meravigliose isole spirituali della laguna di Venezia. Partenza da Portegrandi\, navigazione nella laguna nord e sosta al monastero al famoso monastero di San Francesco del Deserto. Rientro a bordo con pranzo e navigazione panoramica. Dopo pranzo seguirà la sosta presso l’Isola degli Armeni per una bella visita guidata al celebre monastero mechitarista. Escursione sempre garantita anche in caso di maltempo\, vi consigliamo di portare sempre un ombrello e K-way.\n\nTabella orari giornata\n\nImbarco: 08.20\, Portegrandi\nPartenza: 08.30\, Portegrandi\nSan Francesco: 10.30-11.30\nPranzo: 12-13.20\nArmeni: 13.30-15.00\nSan Giorgio: 15.20-16.40\nArrivo: 18.30\, Portegrandi\nTariffe escursione (include la navigazione\, la visita al Monastero di San Francesco\, il pranzo a bordo\, l’ingresso agli Armeni come indicato è extra) \n\n€ 75 adulti\n€ 40 ragazzi (dai 6 ai 14 anni)\n€ 15 bambini (dai 3 ai 5 anni)\n\nTariffe extra escursione per ingresso isola Armeni ed alcuni aspetti importanti: \n\n8 € adulti\n5 € ragazzi in età studenti\nricordiamo per sicurezza che nell’isola non è ammesso l’ingresso agli amici animali\nil biglietto di ingresso per i singoli è acquistabile solo in contanti alla biglietteria dell’isola\nil biglietto di ingresso per agenzie è acquistabile in contanti il giorno stesso del tour o mediante bonifico 3 giorni prima dell’escursione\n\nPagamento escursione:  \n\na bordo in contanti\nmediante bonifico da app bancaria sul telefono\nbonifico vista fattura post escursione\n\nMenù pranzo a bordo (variante pesce): \n\ngrande buffet di benvenuto con cicchetti misti veneziani\, acqua e vino bianco frizzante\nrisotto di frutti di mare dell’Adriatico\nfiletto di branzino al forno con contorno di patate\ndessert\ncaffè\nvino bianco frizzante ed acqua naturale o frizzante a volontà durante tutta la cena\ngrappa\n\nMenù pranzo a bordo (variante carne\, solo su richiesta): \n\ngrande buffet di benvenuto con cicchetti misti veneziani\, acqua e vino bianco frizzante\npaccheri all’amatriciana o lasagne al ragù (conforme alla disponibilità della cucina)\ncarne con contorno\ndessert\ncaffè\nvino bianco frizzante ed acqua naturale o frizzante a volontà durante tutta la cena\ngrappa\n\nPer prenotare l’escursione compilare ed inviarci via mail i seguenti campi:  \n\nData tour: 17 maggio 2026\nNome tour: Tour spirituale a San Francesco\, San Lazzaro degli Armeni e San Giorgio con pranzo a bordo\nNome Referente prenotazione:\nNumero di telefono:\nTotale partecipanti:\nTot. menù pesce:\nTot. menù carne:\nAltro:\n\nCome annullare l’escursione? \n\nVi preghiamo di inviarci una mail almeno 24 ore prima dell’escursione\n\nCosa è importante sapere? \n\nMotonave riscaldata\, bar\, servizio toilette.\nMotonave dotata di tutte le strumentazioni di sicurezza e provvista di regolare licenza per il trasporto passeggeri\nEscursione garantita anche in caso di maltempo: consigliamo di portare sempre un ombrello ed un K-way.\nEscursione garantita con un minimo di 50 partecipanti\nQualora il Monastero armeno non accettasse ulteriori prenotazioni oltre i posti normalmente consentiti\, verrà effettuato uno sbarco con visita guidata all’Abbazia di San Giorgio Maggiore (inclusa nel tour)\nQualora il Monastero francescano sospendesse le visite senza preavviso nella giornata del tour\, ci riserviamo la facoltà insindacabile di garantire la visita di un’altra isola limitrofa.\nIl giorno prima dell’escursione invieremo un sms al numero di cellulare fornito con tutti i dettagli relativi all’imbarco\nLa Direzione può modificare o interrompere l’escursione sia per motivi metereologici che per motivi di sicurezza\n\n
URL:https://www.navigazionestefanato.it/eventi/tour-in-barca-a-san-francesco-del-deserto-e-san-lazzaro-degli-armeni-con-pranzo-a-bordo/
LOCATION:Via Marzi\, Portegrandi\, Venezia\, 30020\, Italy
ATTACH;FMTTYPE=image/jpeg:https://www.navigazionestefanato.it/wp-content/uploads/2025/08/San-Lazzaro-chiesa-4-1024x681.jpg
END:VEVENT
END:VCALENDAR