BEGIN:VCALENDAR
VERSION:2.0
PRODID:-//Navigazione Stefanato - ECPv4.6.13//NONSGML v1.0//EN
CALSCALE:GREGORIAN
METHOD:PUBLISH
X-WR-CALNAME:Navigazione Stefanato
X-ORIGINAL-URL:https://www.navigazionestefanato.it
X-WR-CALDESC:Events for Navigazione Stefanato
BEGIN:VEVENT
DTSTART;TZID=Europe/Rome:20260522T080000
DTEND;TZID=Europe/Rome:20260522T170000
DTSTAMP:20260424T122813
CREATED:20260305T134257Z
LAST-MODIFIED:20260319T161553Z
UID:19381-1779436800-1779469200@www.navigazionestefanato.it
SUMMARY:Tour in barca a San Francesco\, Sant'Erasmo e Burano (con pranzo a bordo)
DESCRIPTION:Durata tour: circa 7  ore \nParcheggio e ZTL: gratuiti a Portegrandi e situati a circa 5 minuti a piedi dal punto di imbarco \nDescrizione tour:  \nIl nostro tour guidato in italiano a bordo inizierà a Portegrandi\, lungo uno degli ultimi tratti del famoso fiume Sile. Dopo aver navigato lungo la zona archeologica della città romana di Altino\, approderemo presso l’isola di San Francesco\, dove effettueremo visita guidata e gratuita al monastero dell’isola tenuta dai frati in persona. Seguirà la sosta a Sant’Erasmo per la visita guidata ad una carciofaia. Al rientro serviremo il pranzo in navigazione con tour panoramico lungo le isole minori di Mazzorbo\, Torcello\, Murano. Dopo il pranzo tappa finale e Burano\, famosa in tutto il mondo per le case colorate e la produzione di merletti. Escursione sempre garantita anche in caso di maltempo\, consigliamo di portare un k-way. \nOrari tour (sono indicativi e possono subire delle piccole variazioni): \n\nImbarco: Portegrandi\, dalle ore 08.30\nPartenza: Portegrandi\, ore 09.00\nSan Francesco: 10.30-11.40\nSant’Erasmo: 12.10-13.40\nPranzo panoramico: 12.10-13.30\nBurano: 15.00-16.30\nArrivo: Portegrandi\, ore 18.00 circa\n\nTariffe escursione (include la navigazione\, le soste\, il pranzo a bordo\, la spiegazione guidata a bordo in italiano\, la visita al monastero di San Francesco\, la visita alla carciofaia di Sant’Erasmo): \n\n€ 78 adulti\n€ 40 ragazzi (dai 6 ai 14 anni)\n€ 15 bambini (dai 3 ai 5 anni)\n\nPagamento escursione:  \n\na bordo in contanti\nmediante bonifico da app bancaria sul telefono\nbonifico vista fattura post escursione\n\nMenù pranzo a bordo (variante pesce): \n\ngrande buffet di benvenuto con cicchetti misti veneziani\, acqua e vino bianco frizzante\nrisotto di frutti di mare dell’Adriatico\nfiletto di branzino al forno con contorno di patate\ndessert\ncaffè\nvino bianco frizzante ed acqua naturale o frizzante a volontà durante tutta la cena\ngrappa\n\nMenù pranzo a bordo (variante carne\, solo su richiesta): \n\ngrande buffet di benvenuto con cicchetti misti veneziani\, acqua e vino bianco frizzante\npaccheri all’amatriciana o lasagne al ragù (conforme alla disponibilità della cucina)\ncarne con contorno\ndessert\ncaffè\nvino bianco frizzante ed acqua naturale o frizzante a volontà durante tutta la cena\ngrappa\n\nCome annullare l’escursione? \n\nVi preghiamo di inviarci una mail almeno una settimana prima dell’escursione.\n\nCosa è importante sapere? \n\nMotonave riscaldata\, bar\, servizio toilette.\nMotonave dotata di tutte le strumentazioni di sicurezza e provvista di regolare licenza per il trasporto passeggeri\nEscursione garantita anche in caso di maltempo: consigliamo di portare sempre un ombrello ed un K-way.\nIl giorno prima dell’escursione invieremo un sms al numero di cellulare fornito con tutti i dettagli relativi all’imbarco\nLa Direzione può modificare o interrompere l’escursione sia per motivi metereologici che per motivi di sicurezza\n\n
URL:https://www.navigazionestefanato.it/eventi/tour-in-barca-a-torcello-burano-murano-con-pranzo-a-bordo-o-al-sacco-2/
LOCATION:Via Marzi\, Portegrandi\, Venezia\, 30020\, Italy
ATTACH;FMTTYPE=image/jpeg:https://www.navigazionestefanato.it/wp-content/uploads/2025/09/BURANO-CASE.jpg
END:VEVENT
END:VCALENDAR