BEGIN:VCALENDAR
VERSION:2.0
PRODID:-//Navigazione Stefanato - ECPv4.6.13//NONSGML v1.0//EN
CALSCALE:GREGORIAN
METHOD:PUBLISH
X-WR-CALNAME:Navigazione Stefanato
X-ORIGINAL-URL:https://www.navigazionestefanato.it
X-WR-CALDESC:Events for Navigazione Stefanato
BEGIN:VEVENT
DTSTART;VALUE=DATE:20251121
DTEND;VALUE=DATE:20251122
DTSTAMP:20260421T134740
CREATED:20250814T141721Z
LAST-MODIFIED:20251105T143717Z
UID:17819-1763683200-1763769599@www.navigazionestefanato.it
SUMMARY:Tour spirituale: Festa Madonna della Salute\, con tappa a Venezia e San Giorgio Maggiore (pranzo a bordo o al sacco) - ULTIMI 50 POSTI!!!
DESCRIPTION:Durata tour: circa 7  ore \nParcheggio e ZTL: gratuiti a Portegrandi e situati a circa 5 minuti a piedi dal punto di imbarco \nDescrizione tour:  \nVivi la magia di un’escursione spirituale con tappa in luoghi iconici della laguna\, ovvero alla Basilica della Salute e all’isola degli Armeni. Un’escursione indimenticabile tra storia\, bellezza e spiritualità! La nostra avventura inizia da Portegrandi\, a bordo di una motonave comoda\, riscaldata \, dotata di bar e toilette\,  lungo l’ultimo tratto del fiume Sile. Dopo aver superato la storica conca del 1724\, entreremo nella laguna nord\, circondati da barene selvagge e suggestivi canneti. Navigheremo tra le isole leggendarie di Torcello\, Burano e Murano\, sino a raggiungere Venezia\, dove sosteremo dietro alla Basilica della Salute (messa alla Salute facoltativa con orario ancora da definire).  Pranzo a bordo o al sacco al rientro da Venezia. Concluderemo con una sosta presso la famosa isola di San Giorgio Maggiore\, per una bellissima visita guidata alla famosa chiesa palladiana dove nel 1799 ebbe luogo un importante conclave fuori dalle mura della Santa Sede.  Escursione garantita anche con il maltempo: portate ombrello\, K-way. \nOrari tour (sono indicativi e possono subire delle piccole variazioni): \n\nImbarco: Portegrandi\, dalle ore 08.00\nPartenza: Portegrandi\, ore 08.30\nVenezia (sosta dietro Basilica della Salute): 10.30-13.40\nPranzo panoramico: 13.45-15.00\nSan Giorgio Maggiore: 15.10-16.30\nArrivo: Portegrandi\, ore 18.30 circa\n\nMenù pranzo a bordo (variante pesce): \n\ngrande buffet di benvenuto con cicchetti misti veneziani\, acqua e vino bianco frizzante\nrisotto di frutti di mare dell’Adriatico\nfiletto di branzino al forno con contorno di patate\ndessert (crema tiramisù con biscotti di Burano)\ncaffè\nvino bianco frizzante ed acqua naturale o frizzante a volontà durante tutto il pranzo\ngrappa\, amaro e limoncello finale\n\nMenù pranzo a bordo (variante carne\, solo su richiesta): \n\ngrande buffet di benvenuto con cicchetti misti veneziani\, acqua e vino bianco frizzante\npaccheri all’amatriciana o lasagne al ragù (conforme alla disponibilità della cucina)\ncarne con contorno\ndessert (crema tiramisù con biscotti di Burano)\ncaffè\nvino bianco frizzante ed acqua naturale o frizzante a volontà durante tutta la cena\ngrappa\, amaro e limoncello finale\n\nTariffe escursione  con pranzo (include la navigazione guidata in italiano a bordo\, le soste nelle varie isole\, il pranzo bordo e la visita guida a San Giorgio Maggiore): \n\n€ 78 adulti\n€ 40 ragazzi (dai 6 ai 14 anni)\n€ 15 bambini (dai 3 ai 5 anni)\n\nTariffe escursione  senza pranzo (include la navigazione guidata in italiano a bordo\, le soste nelle varie isole e la visita guida a San Giorgio Maggiore): \n\n€ 35 adulti\n€ 25 ragazzi (dai 6 ai 14 anni)\n€ 10 bambini (dai 3 ai 5 anni)\n\nCosa si vedrà durante la visita guidata a San Giorgio Maggiore? \n1) La parte frontale dell’isola\n2) La famosa facciata palladiana\n3) Interni architettonici ed artistici dell’abbazia\n4) Siti quadri Tintoretto (in restauro fino al 2026)\n5) Coro ligneo\n6) Possibilità di salire sul campanile pagando un biglietto di € 6; si sale con l’ascensore sino a raggiungere la sommità del campanile\, dal quale si vedrà\n    il Canal Grande\, Piazza San Marco\, il Bacino di San Marco\, il famoso labirinto Borges e molto altro\nPagamento escursione:  \n\na bordo in contanti\nmediante bonifico da app bancaria sul telefono\nbonifico vista fattura post escursione\n\nPer prenotare compilare ed inviarci via mail i seguenti campi:  \n\nData tour: 21 novembre\nNome tour: Festa Madonna della Salute\nNome Referente prenotazione:\nNumero di telefono:\nTotale partecipanti:\nTot. menù pesce:\nTot. menù carne:\nPranzo al sacco:\nAltro:\n\nCome annullare l’escursione? \n\nVi preghiamo di inviarci una mail almeno 48 ore prima dell’escursione\n\nCosa è importante sapere? \n\nIl giorno prima dell’escursione invieremo un sms al numero di cellulare fornito con tutti i dettagli relativi all’imbarco\nAbbigliamento libero a bordo\nMotonave dotata di tutte le strumentazioni di sicurezza e provvista di regolare licenza per il trasporto passeggeri\nLa Direzione può modificare o interrompere l’escursione sia per motivi metereologici che per motivi di sicurezza\n\n
URL:https://www.navigazionestefanato.it/eventi/tour-spirituale-festa-madonna-della-salute-con-tappa-a-venezia-e-san-lazzaro-degli-armeni-pranzo-a-bordo-o-al-sacco/
LOCATION:Via Marzi\, Portegrandi\, Venezia\, 30020\, Italy
ATTACH;FMTTYPE=image/jpeg:https://www.navigazionestefanato.it/wp-content/uploads/2025/08/Basilica-madonna-salute-Venezia-vista-aerea.jpg
END:VEVENT
END:VCALENDAR