BEGIN:VCALENDAR
VERSION:2.0
PRODID:-//Navigazione Stefanato - ECPv4.6.13//NONSGML v1.0//EN
CALSCALE:GREGORIAN
METHOD:PUBLISH
X-WR-CALNAME:Navigazione Stefanato
X-ORIGINAL-URL:https://www.navigazionestefanato.it
X-WR-CALDESC:Events for Navigazione Stefanato
BEGIN:VEVENT
DTSTART;VALUE=DATE:20191103
DTEND;VALUE=DATE:20191104
DTSTAMP:20260421T131940
CREATED:20190916T101423Z
LAST-MODIFIED:20190916T101423Z
UID:8168-1572739200-1572825599@www.navigazionestefanato.it
SUMMARY:VENEZIA-BURANO
DESCRIPTION:Partenza ore 08.30  da Portegrandi (ve). \nParcheggio non a pagamento. \nMotonave riscaldata.  \nUna volta partiti effettueremo la spiegazione a bordo con una navigazione di un breve tratto del fiume Sile\, per poi passare attraverso la conca di navigazione\, dove una volta passati navigheremo il vecchio alveo del fiume. \nImmersi nella flora e fauna\, vedremo bilance da pesca\, valli e barene. \nSosta nelle isole di: \n-Venezia (tempo libero).  \n-Burano (tempo libero). \nPossibilità di pranzo a bordo. \nL’ordine e gli orari delle soste verranno definiti al momento della partenza. \nRientro ore 17.30 circa. \nPer ulteriori informazioni\, tariffe e prenotazioni contattateci. \n(Per varie collaborazioni con agenzie\, associazioni ecc. non possiamo scrivere le tariffe\, grazie per l’attenzione!!). \n
URL:https://www.navigazionestefanato.it/eventi/venezia-burano/
LOCATION:Via Trieste\, 94\, Portegrandi\, Venezia\, 30020\, Italy
END:VEVENT
END:VCALENDAR